BEGIN:VCALENDAR
VERSION:2.0
PRODID:icalendar-ruby
CALSCALE:GREGORIAN
BEGIN:VEVENT
DTSTAMP:20260422T093516Z
UID:bc54db6c-27e6-4168-bcfb-45f08dabf806
DTSTART;VALUE=DATE:20250819
DESCRIPTION:Property ID# 594996\, Locatoin: Onsite (unless sold prior)\, Ti
 me: 4:00PM
SUMMARY:Auction for 
END:VEVENT
END:VCALENDAR
