BEGIN:VCALENDAR
VERSION:2.0
PRODID:icalendar-ruby
CALSCALE:GREGORIAN
BEGIN:VEVENT
DTSTAMP:20260419T192116Z
UID:9e62d8ff-f679-4568-bcbb-61f9b8401c2e
DTSTART;VALUE=DATE:20241121
DESCRIPTION:Property ID# 583599\, Locatoin: Grenadier House\, 98 Moorhouse 
 Avenue (unless sold prior)\, Time: 11:00AM
SUMMARY:Auction for 
END:VEVENT
END:VCALENDAR
