BEGIN:VCALENDAR
VERSION:2.0
PRODID:icalendar-ruby
CALSCALE:GREGORIAN
BEGIN:VEVENT
DTSTAMP:20260422T081511Z
UID:9938c84b-2559-4863-9078-05bbd808b6de
DTSTART;VALUE=DATE:20241015
DESCRIPTION:Property ID# 581573\, Time: 2:00PM
SUMMARY:Auction for 
END:VEVENT
END:VCALENDAR
