BEGIN:VCALENDAR
VERSION:2.0
PRODID:icalendar-ruby
CALSCALE:GREGORIAN
BEGIN:VEVENT
DTSTAMP:20260420T150631Z
UID:ca0b43c4-b47d-4927-9d48-17e4d394e704
DTSTART;VALUE=DATE:20241001
DESCRIPTION:Property ID# 580997\, Time: 2:00PM
SUMMARY:Auction for 
END:VEVENT
END:VCALENDAR
