BEGIN:VCALENDAR
VERSION:2.0
PRODID:icalendar-ruby
CALSCALE:GREGORIAN
BEGIN:VEVENT
DTSTAMP:20260419T190432Z
UID:724518c0-b7b0-4a25-b103-aa9b1c486d4f
DTSTART;VALUE=DATE:20240801
DESCRIPTION:Property ID# 578226\, Locatoin: 98 Moorhouse Avenue (unless sol
 d prior)\, Time: 11:00AM
SUMMARY:Auction for 
END:VEVENT
END:VCALENDAR
