BEGIN:VCALENDAR
VERSION:2.0
PRODID:icalendar-ruby
CALSCALE:GREGORIAN
BEGIN:VEVENT
DTSTAMP:20260422T081603Z
UID:c28dda6b-f2e5-44ae-90a4-6730f110855f
DTSTART;VALUE=DATE:20240723
DESCRIPTION:Property ID# 578080\, Time: 2:00PM
SUMMARY:Auction for 
END:VEVENT
END:VCALENDAR
