BEGIN:VCALENDAR
VERSION:2.0
PRODID:icalendar-ruby
CALSCALE:GREGORIAN
BEGIN:VEVENT
DTSTAMP:20260420T150626Z
UID:a9904aad-24a3-483d-848f-9255c064ef9d
DTSTART;VALUE=DATE:20240618
DESCRIPTION:Property ID# 575403\, Time: 12:00PM
SUMMARY:Auction for 
END:VEVENT
END:VCALENDAR
