BEGIN:VCALENDAR
VERSION:2.0
PRODID:icalendar-ruby
CALSCALE:GREGORIAN
BEGIN:VEVENT
DTSTAMP:20260420T150939Z
UID:d34667af-a280-4e97-bb32-e01863dc78ce
DTSTART;VALUE=DATE:20240613
DESCRIPTION:Property ID# 574852\, Locatoin: Harcourts Grenadier 98 Moorhous
 e Avenue\, Time: 11:00AM
SUMMARY:Auction for 
END:VEVENT
END:VCALENDAR
