BEGIN:VCALENDAR
VERSION:2.0
PRODID:icalendar-ruby
CALSCALE:GREGORIAN
BEGIN:VEVENT
DTSTAMP:20260420T191847Z
UID:b51b9b5b-6245-469a-9d64-62cb1742965b
DTSTART;VALUE=DATE:20240430
DESCRIPTION:Property ID# 574232\, Time: 12:00PM
SUMMARY:Auction for 
END:VEVENT
END:VCALENDAR
