BEGIN:VCALENDAR
VERSION:2.0
PRODID:icalendar-ruby
CALSCALE:GREGORIAN
BEGIN:VEVENT
DTSTAMP:20260420T150938Z
UID:7d23a23f-0188-4c4b-97c2-96e5ffa589d3
DTSTART;VALUE=DATE:20240424
DESCRIPTION:Property ID# 573741\, Time: 11:00AM
SUMMARY:Auction for 
END:VEVENT
END:VCALENDAR
