BEGIN:VCALENDAR
VERSION:2.0
PRODID:icalendar-ruby
CALSCALE:GREGORIAN
BEGIN:VEVENT
DTSTAMP:20260419T192116Z
UID:16e394b3-48d7-4c3b-9082-a81c403cf415
DTSTART;VALUE=DATE:20231207
DESCRIPTION:Property ID# 565946\, Locatoin: Grenadier House\, 98 Moorhouse 
 Avenue (USP)\, Time: 11:00AM
SUMMARY:Auction for 
END:VEVENT
END:VCALENDAR
