BEGIN:VCALENDAR
VERSION:2.0
PRODID:icalendar-ruby
CALSCALE:GREGORIAN
BEGIN:VEVENT
DTSTAMP:20210118T213758Z
UID:187140f6-fd90-4301-9d5e-0041b57791d0
DTSTART;TZID=Pacific/Auckland:20210124T110000
DTEND;TZID=Pacific/Auckland:20210124T120000
DESCRIPTION:Property ID# 499492
SUMMARY:Openhome for 307 New Brighton Road
END:VEVENT
END:VCALENDAR
